BEGIN:VCALENDAR
VERSION:2.0
PRODID:icalendar-ruby
CALSCALE:GREGORIAN
METHOD:PUBLISH
BEGIN:VEVENT
DTSTAMP:20260422T013147Z
UID:5-506546@biblebaptistromeoville.com
DTSTART:20261101T160000Z
DTEND:20261101T170000Z
CLASS:PUBLIC
CREATED:20260421T175551
DESCRIPTION:Sunday Worship
LAST-MODIFIED:20260421T175551
LOCATION:
SUMMARY:Sunday Worship
URL;VALUE=URI:https://biblebaptistromeoville.com/events/sunday-worship/2026
 -11-01
END:VEVENT
END:VCALENDAR
