BEGIN:VCALENDAR
VERSION:2.0
PRODID:icalendar-ruby
CALSCALE:GREGORIAN
METHOD:PUBLISH
BEGIN:VEVENT
DTSTAMP:20260421T222453Z
UID:5-506119@biblebaptistromeoville.com
DTSTART:20261018T150000Z
DTEND:20261018T160000Z
CLASS:PUBLIC
CREATED:20260421T151714
DESCRIPTION:Sunday Worship
LAST-MODIFIED:20260421T151714
LOCATION:
SUMMARY:Sunday Worship
URL;VALUE=URI:https://biblebaptistromeoville.com/events/sunday-worship/2026
 -10-18
END:VEVENT
END:VCALENDAR
